Package: ASGSCA Version: 1.42.0 Maintainer: Hela Romdhani MaintainerEmail: hela.romdhani at mcgill.ca git_url: https://git.bioconductor.org/packages/ASGSCA git_branch: RELEASE_3_21 git_last_commit: 3220f6a git_last_commit_date: 2025-04-15 10:35:02 -0400 (Tue, 15 Apr 2025)