Package: ASEB Version: 1.52.0 Command: /home/biocbuild/R/R/bin/R CMD build --keep-empty-dirs --no-resave-data ASEB StartedAt: 2025-10-13 22:37:43 -0000 (Mon, 13 Oct 2025) EndedAt: 2025-10-13 22:38:01 -0000 (Mon, 13 Oct 2025) EllapsedTime: 18.0 seconds RetCode: 0 Status: OK PackageFile: ASEB_1.52.0.tar.gz PackageFileSize: 594.6 KiB