Package: ASAFE Version: 1.34.0 Command: rm -rf ASAFE.buildbin-libdir && mkdir ASAFE.buildbin-libdir && /Users/biocbuild/BBS/utils/build-universal.sh ASAFE_1.34.0.tar.gz /Library/Frameworks/R.framework/Resources/bin/R ASAFE.buildbin-libdir StartedAt: 2025-10-15 17:26:07 -0400 (Wed, 15 Oct 2025) EndedAt: 2025-10-15 17:26:11 -0400 (Wed, 15 Oct 2025) EllapsedTime: 4.6 seconds RetCode: 0 Status: OK PackageFile: ASAFE_1.34.0.tgz PackageFileSize: 585.4 KiB