Package: ARRmNormalization Version: 1.48.0 Command: /home/biocbuild/bbs-3.21-bioc/R/bin/R CMD INSTALL ARRmNormalization StartedAt: 2025-10-15 15:03:13 -0400 (Wed, 15 Oct 2025) EndedAt: 2025-10-15 15:03:32 -0400 (Wed, 15 Oct 2025) EllapsedTime: 19.0 seconds RetCode: 0 Status: OK