Package: ARRmNormalization Version: 1.48.0 Command: /home/biocbuild/bbs-3.21-bioc/R/bin/R CMD build --keep-empty-dirs --no-resave-data ARRmNormalization StartedAt: 2025-10-15 16:11:45 -0400 (Wed, 15 Oct 2025) EndedAt: 2025-10-15 16:12:13 -0400 (Wed, 15 Oct 2025) EllapsedTime: 28.0 seconds RetCode: 0 Status: OK PackageFile: ARRmNormalization_1.48.0.tar.gz PackageFileSize: 1.075 MiB