Package: ARRmNormalization Version: 1.48.0 Command: /home/biocbuild/R/R/bin/R CMD build --keep-empty-dirs --no-resave-data ARRmNormalization StartedAt: 2025-10-13 22:37:26 -0000 (Mon, 13 Oct 2025) EndedAt: 2025-10-13 22:37:57 -0000 (Mon, 13 Oct 2025) EllapsedTime: 31.0 seconds RetCode: 0 Status: OK PackageFile: ARRmNormalization_1.48.0.tar.gz PackageFileSize: 1.067 MiB