Package: ARRmNormalization Version: 1.48.0 Command: /Library/Frameworks/R.framework/Resources/bin/R CMD build --keep-empty-dirs --no-resave-data ARRmNormalization StartedAt: 2025-10-13 19:09:50 -0400 (Mon, 13 Oct 2025) EndedAt: 2025-10-13 19:10:40 -0400 (Mon, 13 Oct 2025) EllapsedTime: 49.9 seconds RetCode: 0 Status: OK PackageFile: ARRmNormalization_1.48.0.tar.gz PackageFileSize: 1.076 MiB