Package: ARRmNormalization Version: 1.48.0 Command: rm -rf ARRmNormalization.buildbin-libdir && mkdir ARRmNormalization.buildbin-libdir && /Users/biocbuild/BBS/utils/build-universal.sh ARRmNormalization_1.48.0.tar.gz /Library/Frameworks/R.framework/Resources/bin/R ARRmNormalization.buildbin-libdir StartedAt: 2025-10-15 17:26:03 -0400 (Wed, 15 Oct 2025) EndedAt: 2025-10-15 17:26:10 -0400 (Wed, 15 Oct 2025) EllapsedTime: 6.9 seconds RetCode: 0 Status: OK PackageFile: ARRmNormalization_1.48.0.tgz PackageFileSize: 1.111 MiB