Package: APL Version: 1.12.0 Command: /home/biocbuild/R/R/bin/R CMD INSTALL APL StartedAt: 2025-10-13 21:02:48 -0000 (Mon, 13 Oct 2025) EndedAt: 2025-10-13 21:03:50 -0000 (Mon, 13 Oct 2025) EllapsedTime: 62.1 seconds RetCode: 0 Status: OK