Package: APL Version: 1.12.0 Command: /home/biocbuild/R/R/bin/R CMD build --keep-empty-dirs --no-resave-data APL StartedAt: 2025-10-13 22:35:21 -0000 (Mon, 13 Oct 2025) EndedAt: 2025-10-13 22:42:24 -0000 (Mon, 13 Oct 2025) EllapsedTime: 422.1 seconds RetCode: 0 Status: OK PackageFile: APL_1.12.0.tar.gz PackageFileSize: 2.297 MiB