Package: ALDEx2 Version: 1.40.0 Command: /home/biocbuild/R/R/bin/R CMD INSTALL ALDEx2 StartedAt: 2025-10-13 20:30:03 -0000 (Mon, 13 Oct 2025) EndedAt: 2025-10-13 20:30:37 -0000 (Mon, 13 Oct 2025) EllapsedTime: 33.9 seconds RetCode: 0 Status: OK