Package: ALDEx2 Version: 1.40.0 Command: /home/biocbuild/R/R/bin/R CMD build --keep-empty-dirs --no-resave-data ALDEx2 StartedAt: 2025-10-13 22:32:01 -0000 (Mon, 13 Oct 2025) EndedAt: 2025-10-13 22:34:32 -0000 (Mon, 13 Oct 2025) EllapsedTime: 151.1 seconds RetCode: 0 Status: OK PackageFile: ALDEx2_1.40.0.tar.gz PackageFileSize: 3.069 MiB