Package: ADaCGH2 Version: 2.48.0 Command: /home/biocbuild/bbs-3.21-bioc/R/bin/R CMD build --keep-empty-dirs --no-resave-data ADaCGH2 StartedAt: 2025-10-15 16:06:58 -0400 (Wed, 15 Oct 2025) EndedAt: 2025-10-15 16:08:45 -0400 (Wed, 15 Oct 2025) EllapsedTime: 106.2 seconds RetCode: 0 Status: OK PackageFile: ADaCGH2_2.48.0.tar.gz PackageFileSize: 1.171 MiB