Package: ADaCGH2 Version: 2.48.0 Command: /home/biocbuild/R/R/bin/R CMD INSTALL ADaCGH2 StartedAt: 2025-10-13 21:12:42 -0000 (Mon, 13 Oct 2025) EndedAt: 2025-10-13 21:13:17 -0000 (Mon, 13 Oct 2025) EllapsedTime: 34.8 seconds RetCode: 0 Status: OK