Package: ADaCGH2 Version: 2.48.0 Command: /home/biocbuild/R/R/bin/R CMD build --keep-empty-dirs --no-resave-data ADaCGH2 StartedAt: 2025-10-13 22:28:57 -0000 (Mon, 13 Oct 2025) EndedAt: 2025-10-13 22:31:18 -0000 (Mon, 13 Oct 2025) EllapsedTime: 141.1 seconds RetCode: 0 Status: OK PackageFile: ADaCGH2_2.48.0.tar.gz PackageFileSize: 1.161 MiB