Package: ADAPT Version: 1.2.0 Command: /home/biocbuild/R/R/bin/R CMD build --keep-empty-dirs --no-resave-data ADAPT StartedAt: 2025-10-13 22:28:58 -0000 (Mon, 13 Oct 2025) EndedAt: 2025-10-13 22:30:18 -0000 (Mon, 13 Oct 2025) EllapsedTime: 80.0 seconds RetCode: 1 Status: ERROR PackageFile: None PackageFileSize: NA