Package: ADAMgui Version: 1.24.0 Command: /home/biocbuild/R/R/bin/R CMD INSTALL ADAMgui StartedAt: 2025-10-13 21:04:21 -0000 (Mon, 13 Oct 2025) EndedAt: 2025-10-13 21:05:02 -0000 (Mon, 13 Oct 2025) EllapsedTime: 41.4 seconds RetCode: 0 Status: OK