Package: ADAMgui Version: 1.24.0 Command: /Library/Frameworks/R.framework/Resources/bin/R CMD INSTALL ADAMgui StartedAt: 2025-10-13 17:43:54 -0400 (Mon, 13 Oct 2025) EndedAt: 2025-10-13 17:44:28 -0400 (Mon, 13 Oct 2025) EllapsedTime: 34.1 seconds RetCode: 0 Status: OK