Package: ADAM Version: 1.24.0 Command: /home/biocbuild/R/R/bin/R CMD INSTALL ADAM StartedAt: 2025-10-13 21:02:19 -0000 (Mon, 13 Oct 2025) EndedAt: 2025-10-13 21:03:06 -0000 (Mon, 13 Oct 2025) EllapsedTime: 47.0 seconds RetCode: 0 Status: OK