Package: ADAM Version: 1.24.0 Command: rm -rf ADAM.buildbin-libdir && mkdir ADAM.buildbin-libdir && /Users/biocbuild/BBS/utils/build-universal.sh ADAM_1.24.0.tar.gz /Library/Frameworks/R.framework/Resources/bin/R ADAM.buildbin-libdir StartedAt: 2025-10-15 17:19:10 -0400 (Wed, 15 Oct 2025) EndedAt: 2025-10-15 17:19:53 -0400 (Wed, 15 Oct 2025) EllapsedTime: 43.2 seconds RetCode: 0 Status: OK PackageFile: ADAM_1.24.0.tgz PackageFileSize: 397.3 KiB