Package: ABarray Version: 1.76.0 Command: /Library/Frameworks/R.framework/Resources/bin/R CMD INSTALL ABarray StartedAt: 2025-10-13 15:24:49 -0400 (Mon, 13 Oct 2025) EndedAt: 2025-10-13 15:25:07 -0400 (Mon, 13 Oct 2025) EllapsedTime: 18.3 seconds RetCode: 0 Status: OK