Package: variants Version: 1.30.0 Command: /Library/Frameworks/R.framework/Resources/bin/R CMD build --keep-empty-dirs --no-resave-data variants StartedAt: 2025-04-03 11:30:10 -0400 (Thu, 03 Apr 2025) EndedAt: 2025-04-03 11:31:45 -0400 (Thu, 03 Apr 2025) EllapsedTime: 94.2 seconds RetCode: 0 Status: OK PackageFile: variants_1.30.0.tar.gz PackageFileSize: 4.84 MiB