Package: spicyWorkflow Version: 1.6.0 Command: chmod a+r spicyWorkflow -R && F:\biocbuild\bbs-3.20-bioc\R\bin\R.exe CMD build --keep-empty-dirs --no-resave-data spicyWorkflow StartedAt: 2025-04-03 11:37:44 -0400 (Thu, 03 Apr 2025) EndedAt: 2025-04-03 12:04:16 -0400 (Thu, 03 Apr 2025) EllapsedTime: 1592.0 seconds RetCode: 1 Status: ERROR PackageFile: None PackageFileSize: NA