Package: rnaseqDTU Version: 1.26.0 Command: /Library/Frameworks/R.framework/Resources/bin/R CMD build --keep-empty-dirs --no-resave-data rnaseqDTU StartedAt: 2025-04-03 11:24:02 -0400 (Thu, 03 Apr 2025) EndedAt: 2025-04-03 11:27:11 -0400 (Thu, 03 Apr 2025) EllapsedTime: 188.6 seconds RetCode: 0 Status: OK PackageFile: rnaseqDTU_1.26.0.tar.gz PackageFileSize: 8.758 MiB