Package: recountWorkflow Version: 1.30.0 Command: /Library/Frameworks/R.framework/Resources/bin/R CMD INSTALL recountWorkflow StartedAt: 2025-04-03 11:14:43 -0400 (Thu, 03 Apr 2025) EndedAt: 2025-04-03 11:15:51 -0400 (Thu, 03 Apr 2025) EllapsedTime: 68.0 seconds RetCode: 0 Status: OK