Package: recountWorkflow Version: 1.30.0 Command: /Library/Frameworks/R.framework/Resources/bin/R CMD build --keep-empty-dirs --no-resave-data recountWorkflow StartedAt: 2025-04-03 11:22:45 -0400 (Thu, 03 Apr 2025) EndedAt: 2025-04-03 11:42:50 -0400 (Thu, 03 Apr 2025) EllapsedTime: 1205.1 seconds RetCode: 0 Status: OK PackageFile: recountWorkflow_1.30.0.tar.gz PackageFileSize: 4.635 MiB