Package: recountWorkflow Version: 1.30.0 Command: /Library/Frameworks/R.framework/Resources/bin/R CMD INSTALL recountWorkflow StartedAt: 2024-11-15 13:00:36 -0500 (Fri, 15 Nov 2024) EndedAt: 2024-11-15 13:01:25 -0500 (Fri, 15 Nov 2024) EllapsedTime: 48.5 seconds RetCode: 0 Status: OK