Package: maEndToEnd Version: 2.26.0 Command: F:\biocbuild\bbs-3.20-bioc\R\bin\R.exe CMD INSTALL maEndToEnd StartedAt: 2025-04-03 11:21:39 -0400 (Thu, 03 Apr 2025) EndedAt: 2025-04-03 11:22:13 -0400 (Thu, 03 Apr 2025) EllapsedTime: 33.7 seconds RetCode: 0 Status: OK