Package: generegulation Version: 1.30.0 Command: /Library/Frameworks/R.framework/Resources/bin/R CMD INSTALL generegulation StartedAt: 2025-04-03 11:14:09 -0400 (Thu, 03 Apr 2025) EndedAt: 2025-04-03 11:14:53 -0400 (Thu, 03 Apr 2025) EllapsedTime: 44.6 seconds RetCode: 0 Status: OK