Package: generegulation Version: 1.30.0 Command: /Library/Frameworks/R.framework/Resources/bin/R CMD build --keep-empty-dirs --no-resave-data generegulation StartedAt: 2025-04-03 11:17:34 -0400 (Thu, 03 Apr 2025) EndedAt: 2025-04-03 11:19:06 -0400 (Thu, 03 Apr 2025) EllapsedTime: 92.3 seconds RetCode: 0 Status: OK PackageFile: generegulation_1.30.0.tar.gz PackageFileSize: 1.521 MiB