Package: RnaSeqGeneEdgeRQL Version: 1.30.0 Command: chmod a+r RnaSeqGeneEdgeRQL -R && F:\biocbuild\bbs-3.20-bioc\R\bin\R.exe CMD build --keep-empty-dirs --no-resave-data RnaSeqGeneEdgeRQL StartedAt: 2025-04-03 11:34:18 -0400 (Thu, 03 Apr 2025) EndedAt: 2025-04-03 11:35:27 -0400 (Thu, 03 Apr 2025) EllapsedTime: 69.0 seconds RetCode: 0 Status: OK PackageFile: RnaSeqGeneEdgeRQL_1.30.0.tar.gz PackageFileSize: 1.129 MiB