Package: ExpHunterSuite Version: 1.14.0 Command: /Library/Frameworks/R.framework/Resources/bin/R CMD INSTALL ExpHunterSuite StartedAt: 2025-04-03 11:15:22 -0400 (Thu, 03 Apr 2025) EndedAt: 2025-04-03 11:16:41 -0400 (Thu, 03 Apr 2025) EllapsedTime: 79.2 seconds RetCode: 0 Status: OK