Package: ExpHunterSuite Version: 1.14.0 Command: /Library/Frameworks/R.framework/Resources/bin/R CMD build --keep-empty-dirs --no-resave-data ExpHunterSuite StartedAt: 2025-04-03 11:17:13 -0400 (Thu, 03 Apr 2025) EndedAt: 2025-04-03 11:21:40 -0400 (Thu, 03 Apr 2025) EllapsedTime: 267.0 seconds RetCode: 0 Status: OK PackageFile: ExpHunterSuite_1.14.0.tar.gz PackageFileSize: 4.112 MiB