All our mirrors of open source software are available via http, https, ftp and an onion service. More information about our mirrors including statistics and contact information is available on our mirror info pages.
For information about dotsrc.org and our other services please go to our website.
| File Name ↓ | File Size ↓ | Date ↓ |
|---|---|---|
| Parent directory/ | - | - |
| BP4RNAseq/ | - | 2025-04-03 17:02:19 |
| BiocMetaWorkflow/ | - | 2025-04-03 17:02:19 |
| CAGEWorkflow/ | - | 2025-04-03 17:02:19 |
| EGSEA123/ | - | 2025-04-03 17:02:19 |
| ExpHunterSuite/ | - | 2025-04-03 17:02:19 |
| ExpressionNormalizationWorkflow/ | - | 2025-04-03 17:02:19 |
| GeoMxWorkflows/ | - | 2025-04-03 17:02:19 |
| RNAseq123/ | - | 2025-04-03 17:02:19 |
| RnaSeqGeneEdgeRQL/ | - | 2025-04-03 17:02:19 |
| SingscoreAMLMutations/ | - | 2025-04-03 17:02:19 |
| TCGAWorkflow/ | - | 2025-04-03 17:02:19 |
| annotation/ | - | 2025-04-03 17:02:19 |
| arrays/ | - | 2025-04-03 17:02:19 |
| chipseqDB/ | - | 2025-04-03 17:02:19 |
| csawUsersGuide/ | - | 2025-04-03 17:02:19 |
| cytofWorkflow/ | - | 2025-04-03 17:02:19 |
| fluentGenomics/ | - | 2025-04-03 17:02:19 |
| generegulation/ | - | 2025-04-03 17:02:19 |
| highthroughputassays/ | - | 2025-04-03 17:02:18 |
| liftOver/ | - | 2025-04-03 17:02:19 |
| maEndToEnd/ | - | 2025-04-03 17:02:19 |
| methylationArrayAnalysis/ | - | 2025-04-03 17:02:19 |
| recountWorkflow/ | - | 2025-04-03 17:02:19 |
| rnaseqDTU/ | - | 2025-04-03 17:02:19 |
| rnaseqGene/ | - | 2025-04-03 17:02:19 |
| seqpac/ | - | 2025-04-03 17:02:19 |
| sequencing/ | - | 2025-04-03 17:02:19 |
| simpleSingleCell/ | - | 2025-04-03 17:02:19 |
| spicyWorkflow/ | - | 2025-04-03 17:02:19 |
| variants/ | - | 2025-04-03 17:02:19 |
| 120px-Blue_Light_Icon.svg.png | 7.1 KiB | 2025-04-03 17:02:18 |
| 120px-Green_Light_Icon.svg.png | 7.1 KiB | 2025-04-03 17:02:18 |
| 120px-Red_Light_Icon.svg.png | 7.0 KiB | 2025-04-03 17:02:18 |
| BUILD_STATUS_DB.txt | 6.0 KiB | 2025-04-03 17:02:18 |
| DEVEL3b.png | 2.6 KiB | 2025-04-03 17:02:18 |
| PROPAGATION_STATUS_DB.txt | 2.1 KiB | 2025-04-03 17:02:18 |
| Renviron.bioc | 3.2 KiB | 2025-04-03 17:02:18 |
| index.html | 108.3 KiB | 2025-04-03 17:02:19 |
| lconway-NodeInfo.html | 6.6 KiB | 2024-11-15 21:30:09 |
| lconway-R-instpkgs.html | 608.1 KiB | 2024-11-15 21:30:09 |
| lconway-index.html | 32.7 KiB | 2024-11-15 21:30:09 |
| meat-index.dcf | 3.5 KiB | 2025-04-03 17:02:18 |
| merida1-NodeInfo.html | 6.6 KiB | 2025-04-03 17:02:18 |
| merida1-R-instpkgs.html | 605.9 KiB | 2025-04-03 17:02:18 |
| merida1-index.html | 32.7 KiB | 2025-04-03 17:02:19 |
| nebbiolo2-NodeInfo.html | 6.8 KiB | 2025-04-03 17:02:18 |
| nebbiolo2-R-instpkgs.html | 522.0 KiB | 2025-04-03 17:02:18 |
| nebbiolo2-index.html | 38.7 KiB | 2025-04-03 17:02:19 |
| palomino4-NodeInfo.html | 6.8 KiB | 2024-06-14 20:30:11 |
| palomino4-R-instpkgs.html | 453.5 KiB | 2024-06-14 20:30:11 |
| palomino4-index.html | 30.9 KiB | 2024-06-14 20:30:11 |
| palomino6-NodeInfo.html | 6.8 KiB | 2024-07-09 20:30:09 |
| palomino6-R-instpkgs.html | 479.4 KiB | 2024-07-09 20:30:10 |
| palomino6-index.html | 31.7 KiB | 2024-07-09 20:30:10 |
| palomino8-NodeInfo.html | 6.8 KiB | 2025-04-03 17:02:18 |
| palomino8-R-instpkgs.html | 461.8 KiB | 2025-04-03 17:02:18 |
| palomino8-index.html | 31.7 KiB | 2025-04-03 17:02:19 |
| report.css | 11.2 KiB | 2025-04-03 17:02:18 |
| report.js | 6.0 KiB | 2025-04-03 17:02:18 |
| report.tgz | 299.1 KiB | 2025-04-03 17:02:19 |
| skipped-index.dcf | 0 B | 2025-04-03 17:02:18 |