Package: smokingMouse Version: 1.4.0 Command: /home/biocbuild/bbs-3.20-bioc/R/bin/R CMD check --install=check:smokingMouse.install-out.txt --library=/home/biocbuild/bbs-3.20-bioc/R/site-library --timings smokingMouse_1.4.0.tar.gz StartedAt: 2025-04-01 12:37:00 -0400 (Tue, 01 Apr 2025) EndedAt: 2025-04-01 12:37:46 -0400 (Tue, 01 Apr 2025) EllapsedTime: 45.6 seconds RetCode: 0 Status: OK CheckDir: smokingMouse.Rcheck Warnings: 0