Package: parathyroidSE Version: 1.44.0 Command: /home/biocbuild/bbs-3.20-bioc/R/bin/R CMD check --install=check:parathyroidSE.install-out.txt --library=/home/biocbuild/bbs-3.20-bioc/R/site-library --timings parathyroidSE_1.44.0.tar.gz StartedAt: 2025-04-01 12:24:54 -0400 (Tue, 01 Apr 2025) EndedAt: 2025-04-01 12:26:18 -0400 (Tue, 01 Apr 2025) EllapsedTime: 84.3 seconds RetCode: 0 Status: OK CheckDir: parathyroidSE.Rcheck Warnings: 0