Package: msdata Version: 0.46.0 Command: /home/biocbuild/bbs-3.20-bioc/R/bin/R CMD check --install=check:msdata.install-out.txt --library=/home/biocbuild/bbs-3.20-bioc/R/site-library --timings msdata_0.46.0.tar.gz StartedAt: 2025-04-01 12:20:38 -0400 (Tue, 01 Apr 2025) EndedAt: 2025-04-01 12:22:27 -0400 (Tue, 01 Apr 2025) EllapsedTime: 109.3 seconds RetCode: 0 Status: OK CheckDir: msdata.Rcheck Warnings: 0