Package: chipenrich.data Version: 2.30.0 Command: /home/biocbuild/bbs-3.20-bioc/R/bin/R CMD INSTALL chipenrich.data StartedAt: 2025-04-01 11:01:36 -0400 (Tue, 01 Apr 2025) EndedAt: 2025-04-01 11:03:28 -0400 (Tue, 01 Apr 2025) EllapsedTime: 112.3 seconds RetCode: 0 Status: OK