Package: cancerdata Version: 1.44.0 Command: /home/biocbuild/bbs-3.20-bioc/R/bin/R CMD build --keep-empty-dirs --no-resave-data cancerdata StartedAt: 2025-04-01 11:07:05 -0400 (Tue, 01 Apr 2025) EndedAt: 2025-04-01 11:07:08 -0400 (Tue, 01 Apr 2025) EllapsedTime: 3.0 seconds RetCode: 0 Status: OK PackageFile: cancerdata_1.44.0.tar.gz PackageFileSize: 26.69 MiB