Package: breastCancerMAINZ Version: 1.44.0 Command: /home/biocbuild/bbs-3.20-bioc/R/bin/R CMD build --keep-empty-dirs --no-resave-data breastCancerMAINZ StartedAt: 2025-04-01 11:06:52 -0400 (Tue, 01 Apr 2025) EndedAt: 2025-04-01 11:06:56 -0400 (Tue, 01 Apr 2025) EllapsedTime: 3.6 seconds RetCode: 0 Status: OK PackageFile: breastCancerMAINZ_1.44.0.tar.gz PackageFileSize: 34.8 MiB