Package: WGSmapp Version: 1.18.0 Command: /home/biocbuild/bbs-3.20-bioc/R/bin/R CMD check --install=check:WGSmapp.install-out.txt --library=/home/biocbuild/bbs-3.20-bioc/R/site-library --timings WGSmapp_1.18.0.tar.gz StartedAt: 2025-04-01 12:48:17 -0400 (Tue, 01 Apr 2025) EndedAt: 2025-04-01 12:49:38 -0400 (Tue, 01 Apr 2025) EllapsedTime: 80.6 seconds RetCode: 0 Status: WARNINGS CheckDir: WGSmapp.Rcheck Warnings: 1