Package: WES.1KG.WUGSC Version: 1.38.0 Command: /home/biocbuild/bbs-3.20-bioc/R/bin/R CMD check --install=check:WES.1KG.WUGSC.install-out.txt --library=/home/biocbuild/bbs-3.20-bioc/R/site-library --timings WES.1KG.WUGSC_1.38.0.tar.gz StartedAt: 2025-04-01 12:47:55 -0400 (Tue, 01 Apr 2025) EndedAt: 2025-04-01 12:48:17 -0400 (Tue, 01 Apr 2025) EllapsedTime: 22.0 seconds RetCode: 0 Status: OK CheckDir: WES.1KG.WUGSC.Rcheck Warnings: 0