Package: TENxVisiumData Version: 1.14.0 Command: /home/biocbuild/bbs-3.20-bioc/R/bin/R CMD check --install=check:TENxVisiumData.install-out.txt --library=/home/biocbuild/bbs-3.20-bioc/R/site-library --timings TENxVisiumData_1.14.0.tar.gz StartedAt: 2025-04-01 12:43:05 -0400 (Tue, 01 Apr 2025) EndedAt: 2025-04-01 12:46:00 -0400 (Tue, 01 Apr 2025) EllapsedTime: 174.6 seconds RetCode: 0 Status: OK CheckDir: TENxVisiumData.Rcheck Warnings: 0