Package: SomatiCAData Version: 1.44.0 Command: /home/biocbuild/bbs-3.20-bioc/R/bin/R CMD check --install=check:SomatiCAData.install-out.txt --library=/home/biocbuild/bbs-3.20-bioc/R/site-library --timings SomatiCAData_1.44.0.tar.gz StartedAt: 2025-04-01 12:37:36 -0400 (Tue, 01 Apr 2025) EndedAt: 2025-04-01 12:39:36 -0400 (Tue, 01 Apr 2025) EllapsedTime: 119.8 seconds RetCode: 0 Status: WARNINGS CheckDir: SomatiCAData.Rcheck Warnings: 2