Package: PCHiCdata Version: 1.34.0 Command: /home/biocbuild/bbs-3.20-bioc/R/bin/R CMD check --install=check:PCHiCdata.install-out.txt --library=/home/biocbuild/bbs-3.20-bioc/R/site-library --timings PCHiCdata_1.34.0.tar.gz StartedAt: 2025-04-01 12:25:34 -0400 (Tue, 01 Apr 2025) EndedAt: 2025-04-01 12:26:34 -0400 (Tue, 01 Apr 2025) EllapsedTime: 59.2 seconds RetCode: 0 Status: WARNINGS CheckDir: PCHiCdata.Rcheck Warnings: 1