Package: MethylSeqData Version: 1.16.0 Command: /home/biocbuild/bbs-3.20-bioc/R/bin/R CMD check --install=check:MethylSeqData.install-out.txt --library=/home/biocbuild/bbs-3.20-bioc/R/site-library --timings MethylSeqData_1.16.0.tar.gz StartedAt: 2025-04-01 12:16:35 -0400 (Tue, 01 Apr 2025) EndedAt: 2025-04-01 12:20:41 -0400 (Tue, 01 Apr 2025) EllapsedTime: 245.8 seconds RetCode: 0 Status: OK CheckDir: MethylSeqData.Rcheck Warnings: 0