Package: HiBED Version: 1.4.0 Command: /home/biocbuild/bbs-3.20-bioc/R/bin/R CMD check --install=check:HiBED.install-out.txt --library=/home/biocbuild/bbs-3.20-bioc/R/site-library --timings HiBED_1.4.0.tar.gz StartedAt: 2025-04-01 12:07:35 -0400 (Tue, 01 Apr 2025) EndedAt: 2025-04-01 12:13:29 -0400 (Tue, 01 Apr 2025) EllapsedTime: 354.5 seconds RetCode: 0 Status: OK CheckDir: HiBED.Rcheck Warnings: 0