Package: HCAData Version: 1.22.0 Command: /home/biocbuild/bbs-3.20-bioc/R/bin/R CMD check --install=check:HCAData.install-out.txt --library=/home/biocbuild/bbs-3.20-bioc/R/site-library --timings HCAData_1.22.0.tar.gz StartedAt: 2025-04-01 12:06:15 -0400 (Tue, 01 Apr 2025) EndedAt: 2025-04-01 12:12:13 -0400 (Tue, 01 Apr 2025) EllapsedTime: 357.3 seconds RetCode: 0 Status: OK CheckDir: HCAData.Rcheck Warnings: 0