Package: ELMER.data Version: 2.30.0 Command: /home/biocbuild/bbs-3.20-bioc/R/bin/R CMD build --keep-empty-dirs --no-resave-data ELMER.data StartedAt: 2025-04-01 11:14:10 -0400 (Tue, 01 Apr 2025) EndedAt: 2025-04-01 11:16:06 -0400 (Tue, 01 Apr 2025) EllapsedTime: 116.3 seconds RetCode: 0 Status: OK PackageFile: ELMER.data_2.30.0.tar.gz PackageFileSize: 293.4 MiB