Package: DvDdata Version: 1.42.0 Command: /home/biocbuild/bbs-3.20-bioc/R/bin/R CMD check --install=check:DvDdata.install-out.txt --library=/home/biocbuild/bbs-3.20-bioc/R/site-library --timings DvDdata_1.42.0.tar.gz StartedAt: 2025-04-01 11:56:49 -0400 (Tue, 01 Apr 2025) EndedAt: 2025-04-01 11:57:05 -0400 (Tue, 01 Apr 2025) EllapsedTime: 15.3 seconds RetCode: 0 Status: WARNINGS CheckDir: DvDdata.Rcheck Warnings: 1